BEGIN:VCALENDAR
VERSION:2.0
PRODID:-//Club d&#039;Education Canine de Valentigney - ECPv6.15.20//NONSGML v1.0//EN
CALSCALE:GREGORIAN
METHOD:PUBLISH
X-ORIGINAL-URL:https://cecvalentigney.fr
X-WR-CALDESC:Évènements pour Club d&#039;Education Canine de Valentigney
REFRESH-INTERVAL;VALUE=DURATION:PT1H
X-Robots-Tag:noindex
X-PUBLISHED-TTL:PT1H
BEGIN:VTIMEZONE
TZID:Europe/Paris
BEGIN:DAYLIGHT
TZOFFSETFROM:+0100
TZOFFSETTO:+0200
TZNAME:CEST
DTSTART:20240331T010000
END:DAYLIGHT
BEGIN:STANDARD
TZOFFSETFROM:+0200
TZOFFSETTO:+0100
TZNAME:CET
DTSTART:20241027T010000
END:STANDARD
BEGIN:DAYLIGHT
TZOFFSETFROM:+0100
TZOFFSETTO:+0200
TZNAME:CEST
DTSTART:20250330T010000
END:DAYLIGHT
BEGIN:STANDARD
TZOFFSETFROM:+0200
TZOFFSETTO:+0100
TZNAME:CET
DTSTART:20251026T010000
END:STANDARD
BEGIN:DAYLIGHT
TZOFFSETFROM:+0100
TZOFFSETTO:+0200
TZNAME:CEST
DTSTART:20260329T010000
END:DAYLIGHT
BEGIN:STANDARD
TZOFFSETFROM:+0200
TZOFFSETTO:+0100
TZNAME:CET
DTSTART:20261025T010000
END:STANDARD
END:VTIMEZONE
BEGIN:VEVENT
DTSTART;TZID=Europe/Paris:20250706T080000
DTEND;TZID=Europe/Paris:20250706T170000
DTSTAMP:20260423T070753
CREATED:20250130T144129Z
LAST-MODIFIED:20250331T133053Z
UID:4128396-1751788800-1751821200@cecvalentigney.fr
SUMMARY:Concours Agility
DESCRIPTION:
URL:https://cecvalentigney.fr/event/concours-agilitu/
CATEGORIES:Concours
END:VEVENT
BEGIN:VEVENT
DTSTART;TZID=Europe/Paris:20250728T080000
DTEND;TZID=Europe/Paris:20250818T233000
DTSTAMP:20260423T070753
CREATED:20231108T143330Z
LAST-MODIFIED:20250331T134303Z
UID:1200235-1753689600-1755559800@cecvalentigney.fr
SUMMARY:Vacances d'été 2025 (Club fermé) - Ouverture de l’école du chiot le 17/08/2024
DESCRIPTION:Le club sera fermé pour la saison estivale du 28 Juillet au 18 Aout inclus \n\n\n\nReprise des cours d’éducation le dimanche 24 Août
URL:https://cecvalentigney.fr/event/vacances-dete-2024-club-ferme-ouverture-de-lecole-du-chiot-le-19-08-2024/
END:VEVENT
END:VCALENDAR