BEGIN:VCALENDAR
VERSION:2.0
PRODID:-//Club d&#039;Education Canine de Valentigney - ECPv6.15.20//NONSGML v1.0//EN
CALSCALE:GREGORIAN
METHOD:PUBLISH
X-ORIGINAL-URL:https://cecvalentigney.fr
X-WR-CALDESC:Évènements pour Club d&#039;Education Canine de Valentigney
REFRESH-INTERVAL;VALUE=DURATION:PT1H
X-Robots-Tag:noindex
X-PUBLISHED-TTL:PT1H
BEGIN:VTIMEZONE
TZID:Europe/Paris
BEGIN:DAYLIGHT
TZOFFSETFROM:+0100
TZOFFSETTO:+0200
TZNAME:CEST
DTSTART:20240331T010000
END:DAYLIGHT
BEGIN:STANDARD
TZOFFSETFROM:+0200
TZOFFSETTO:+0100
TZNAME:CET
DTSTART:20241027T010000
END:STANDARD
BEGIN:DAYLIGHT
TZOFFSETFROM:+0100
TZOFFSETTO:+0200
TZNAME:CEST
DTSTART:20250330T010000
END:DAYLIGHT
BEGIN:STANDARD
TZOFFSETFROM:+0200
TZOFFSETTO:+0100
TZNAME:CET
DTSTART:20251026T010000
END:STANDARD
BEGIN:DAYLIGHT
TZOFFSETFROM:+0100
TZOFFSETTO:+0200
TZNAME:CEST
DTSTART:20260329T010000
END:DAYLIGHT
BEGIN:STANDARD
TZOFFSETFROM:+0200
TZOFFSETTO:+0100
TZNAME:CET
DTSTART:20261025T010000
END:STANDARD
END:VTIMEZONE
BEGIN:VEVENT
DTSTART;TZID=Europe/Paris:20250524T083000
DTEND;TZID=Europe/Paris:20250524T170000
DTSTAMP:20260423T095431
CREATED:20250326T093315Z
LAST-MODIFIED:20250523T065402Z
UID:4421828-1748075400-1748106000@cecvalentigney.fr
SUMMARY:Formation secours Canin
DESCRIPTION:Il reste des places de disponible\, merci de contacter le Président
URL:https://cecvalentigney.fr/event/formation-secours-canin/
END:VEVENT
END:VCALENDAR