BEGIN:VCALENDAR
VERSION:2.0
PRODID:-//Club d&#039;Education Canine de Valentigney - ECPv6.15.20//NONSGML v1.0//EN
CALSCALE:GREGORIAN
METHOD:PUBLISH
X-ORIGINAL-URL:https://cecvalentigney.fr
X-WR-CALDESC:Évènements pour Club d&#039;Education Canine de Valentigney
REFRESH-INTERVAL;VALUE=DURATION:PT1H
X-Robots-Tag:noindex
X-PUBLISHED-TTL:PT1H
BEGIN:VTIMEZONE
TZID:Europe/Paris
BEGIN:DAYLIGHT
TZOFFSETFROM:+0100
TZOFFSETTO:+0200
TZNAME:CEST
DTSTART:20220327T010000
END:DAYLIGHT
BEGIN:STANDARD
TZOFFSETFROM:+0200
TZOFFSETTO:+0100
TZNAME:CET
DTSTART:20221030T010000
END:STANDARD
BEGIN:DAYLIGHT
TZOFFSETFROM:+0100
TZOFFSETTO:+0200
TZNAME:CEST
DTSTART:20230326T010000
END:DAYLIGHT
BEGIN:STANDARD
TZOFFSETFROM:+0200
TZOFFSETTO:+0100
TZNAME:CET
DTSTART:20231029T010000
END:STANDARD
BEGIN:DAYLIGHT
TZOFFSETFROM:+0100
TZOFFSETTO:+0200
TZNAME:CEST
DTSTART:20240331T010000
END:DAYLIGHT
BEGIN:STANDARD
TZOFFSETFROM:+0200
TZOFFSETTO:+0100
TZNAME:CET
DTSTART:20241027T010000
END:STANDARD
END:VTIMEZONE
BEGIN:VEVENT
DTSTART;TZID=Europe/Paris:20230501T000000
DTEND;TZID=Europe/Paris:20230501T235959
DTSTAMP:20260421T212534
CREATED:20221104T143720Z
LAST-MODIFIED:20221104T145503Z
UID:611547-1682899200-1682985599@cecvalentigney.fr
SUMMARY:Fête du travail (Club Fermé)
DESCRIPTION:Club Fermé
URL:https://cecvalentigney.fr/event/fete-du-travail-3/
END:VEVENT
BEGIN:VEVENT
DTSTART;TZID=Europe/Paris:20230508T000000
DTEND;TZID=Europe/Paris:20230508T235959
DTSTAMP:20260421T212534
CREATED:20221104T143758Z
LAST-MODIFIED:20221104T145440Z
UID:611561-1683504000-1683590399@cecvalentigney.fr
SUMMARY:Victoire de 1945 (Club Fermé)
DESCRIPTION:Club Fermé
URL:https://cecvalentigney.fr/event/victoire-de-1945-4/
END:VEVENT
BEGIN:VEVENT
DTSTART;TZID=Europe/Paris:20230518T000000
DTEND;TZID=Europe/Paris:20230518T235959
DTSTAMP:20260421T212534
CREATED:20221104T143848Z
LAST-MODIFIED:20221104T145419Z
UID:611571-1684368000-1684454399@cecvalentigney.fr
SUMMARY:Ascension (Club Fermé)
DESCRIPTION:Club Fermé
URL:https://cecvalentigney.fr/event/ascension-4/
END:VEVENT
BEGIN:VEVENT
DTSTART;TZID=Europe/Paris:20230518T080000
DTEND;TZID=Europe/Paris:20230522T120000
DTSTAMP:20260421T212534
CREATED:20230418T081116Z
LAST-MODIFIED:20230418T081336Z
UID:841222-1684396800-1684756800@cecvalentigney.fr
SUMMARY:Club fermé (BLOODY WEEKEND) Fermeture du complexe sportif
DESCRIPTION:
URL:https://cecvalentigney.fr/event/club-ferme-bloody-weekend-sur-le-site-des-longines/
END:VEVENT
END:VCALENDAR