BEGIN:VCALENDAR
VERSION:2.0
PRODID:-//Club d&#039;Education Canine de Valentigney - ECPv6.15.20//NONSGML v1.0//EN
CALSCALE:GREGORIAN
METHOD:PUBLISH
X-ORIGINAL-URL:https://cecvalentigney.fr
X-WR-CALDESC:Évènements pour Club d&#039;Education Canine de Valentigney
REFRESH-INTERVAL;VALUE=DURATION:PT1H
X-Robots-Tag:noindex
X-PUBLISHED-TTL:PT1H
BEGIN:VTIMEZONE
TZID:Europe/Paris
BEGIN:DAYLIGHT
TZOFFSETFROM:+0100
TZOFFSETTO:+0200
TZNAME:CEST
DTSTART:20210328T010000
END:DAYLIGHT
BEGIN:STANDARD
TZOFFSETFROM:+0200
TZOFFSETTO:+0100
TZNAME:CET
DTSTART:20211031T010000
END:STANDARD
BEGIN:DAYLIGHT
TZOFFSETFROM:+0100
TZOFFSETTO:+0200
TZNAME:CEST
DTSTART:20220327T010000
END:DAYLIGHT
BEGIN:STANDARD
TZOFFSETFROM:+0200
TZOFFSETTO:+0100
TZNAME:CET
DTSTART:20221030T010000
END:STANDARD
BEGIN:DAYLIGHT
TZOFFSETFROM:+0100
TZOFFSETTO:+0200
TZNAME:CEST
DTSTART:20230326T010000
END:DAYLIGHT
BEGIN:STANDARD
TZOFFSETFROM:+0200
TZOFFSETTO:+0100
TZNAME:CET
DTSTART:20231029T010000
END:STANDARD
END:VTIMEZONE
BEGIN:VEVENT
DTSTART;TZID=Europe/Paris:20220507T000000
DTEND;TZID=Europe/Paris:20220507T235959
DTSTAMP:20260422T150757
CREATED:20220208T142309Z
LAST-MODIFIED:20220208T142311Z
UID:345990-1651881600-1651967999@cecvalentigney.fr
SUMMARY:Préparation Concours Agility
DESCRIPTION:Concours Agility (Club Fermé)
URL:https://cecvalentigney.fr/event/preparation-concours-agility/
END:VEVENT
BEGIN:VEVENT
DTSTART;TZID=Europe/Paris:20220508T000000
DTEND;TZID=Europe/Paris:20220508T235959
DTSTAMP:20260422T150757
CREATED:20191116T101734Z
LAST-MODIFIED:20220208T142339Z
UID:70242-1651968000-1652054399@cecvalentigney.fr
SUMMARY:Concours Agility
DESCRIPTION:Concours Agility (Club Fermé)
URL:https://cecvalentigney.fr/event/concours-agility-2/
END:VEVENT
BEGIN:VEVENT
DTSTART;VALUE=DATE:20220508
DTEND;VALUE=DATE:20220509
DTSTAMP:20260422T150757
CREATED:20210105T144905Z
LAST-MODIFIED:20211013T084341Z
UID:166315-1651968000-1652054399@cecvalentigney.fr
SUMMARY:Victoire de 1945
DESCRIPTION:Club Fermé
URL:https://cecvalentigney.fr/event/victoire-de-1945-3/
END:VEVENT
BEGIN:VEVENT
DTSTART;TZID=Europe/Paris:20220528T000000
DTEND;TZID=Europe/Paris:20220528T235959
DTSTAMP:20260422T150757
CREATED:20220208T142039Z
LAST-MODIFIED:20220208T142201Z
UID:345972-1653696000-1653782399@cecvalentigney.fr
SUMMARY:Concours Obéissance 2022
DESCRIPTION:Concours Obéissance 2022 – Club Fermé
URL:https://cecvalentigney.fr/event/concours-obeissance-2022/
END:VEVENT
BEGIN:VEVENT
DTSTART;TZID=Europe/Paris:20220529T000000
DTEND;TZID=Europe/Paris:20220529T235959
DTSTAMP:20260422T150757
CREATED:20201027T104420Z
LAST-MODIFIED:20220208T142116Z
UID:151025-1653782400-1653868799@cecvalentigney.fr
SUMMARY:Concours Obéissance 2022
DESCRIPTION:Concours Obéissance 2022 – Club Fermé
URL:https://cecvalentigney.fr/event/concours-obeissance-club-ferme/
END:VEVENT
END:VCALENDAR