BEGIN:VCALENDAR
VERSION:2.0
PRODID:-//Club d&#039;Education Canine de Valentigney - ECPv6.15.20//NONSGML v1.0//EN
CALSCALE:GREGORIAN
METHOD:PUBLISH
X-WR-CALNAME:Club d&#039;Education Canine de Valentigney
X-ORIGINAL-URL:https://cecvalentigney.fr
X-WR-CALDESC:Évènements pour Club d&#039;Education Canine de Valentigney
REFRESH-INTERVAL;VALUE=DURATION:PT1H
X-Robots-Tag:noindex
X-PUBLISHED-TTL:PT1H
BEGIN:VTIMEZONE
TZID:Europe/Paris
BEGIN:DAYLIGHT
TZOFFSETFROM:+0100
TZOFFSETTO:+0200
TZNAME:CEST
DTSTART:20230326T010000
END:DAYLIGHT
BEGIN:STANDARD
TZOFFSETFROM:+0200
TZOFFSETTO:+0100
TZNAME:CET
DTSTART:20231029T010000
END:STANDARD
BEGIN:DAYLIGHT
TZOFFSETFROM:+0100
TZOFFSETTO:+0200
TZNAME:CEST
DTSTART:20240331T010000
END:DAYLIGHT
BEGIN:STANDARD
TZOFFSETFROM:+0200
TZOFFSETTO:+0100
TZNAME:CET
DTSTART:20241027T010000
END:STANDARD
BEGIN:DAYLIGHT
TZOFFSETFROM:+0100
TZOFFSETTO:+0200
TZNAME:CEST
DTSTART:20250330T010000
END:DAYLIGHT
BEGIN:STANDARD
TZOFFSETFROM:+0200
TZOFFSETTO:+0100
TZNAME:CET
DTSTART:20251026T010000
END:STANDARD
END:VTIMEZONE
BEGIN:VEVENT
DTSTART;TZID=Europe/Paris:20240322T000000
DTEND;TZID=Europe/Paris:20240324T235959
DTSTAMP:20260424T000918
CREATED:20231108T141401Z
LAST-MODIFIED:20231108T141547Z
UID:1200153-1711065600-1711324799@cecvalentigney.fr
SUMMARY:Concours Recherche Utilitaire 2024
DESCRIPTION:Concours Recherche Utilitaire 2024\, le club est ouvert.
URL:https://cecvalentigney.fr/event/concours-recherche-utilitaire-2024/
END:VEVENT
END:VCALENDAR