BEGIN:VCALENDAR
VERSION:2.0
PRODID:-//Club d&#039;Education Canine de Valentigney - ECPv6.15.20//NONSGML v1.0//EN
CALSCALE:GREGORIAN
METHOD:PUBLISH
X-WR-CALNAME:Club d&#039;Education Canine de Valentigney
X-ORIGINAL-URL:https://cecvalentigney.fr
X-WR-CALDESC:Évènements pour Club d&#039;Education Canine de Valentigney
REFRESH-INTERVAL;VALUE=DURATION:PT1H
X-Robots-Tag:noindex
X-PUBLISHED-TTL:PT1H
BEGIN:VTIMEZONE
TZID:Europe/Paris
BEGIN:DAYLIGHT
TZOFFSETFROM:+0100
TZOFFSETTO:+0200
TZNAME:CEST
DTSTART:20220327T010000
END:DAYLIGHT
BEGIN:STANDARD
TZOFFSETFROM:+0200
TZOFFSETTO:+0100
TZNAME:CET
DTSTART:20221030T010000
END:STANDARD
BEGIN:DAYLIGHT
TZOFFSETFROM:+0100
TZOFFSETTO:+0200
TZNAME:CEST
DTSTART:20230326T010000
END:DAYLIGHT
BEGIN:STANDARD
TZOFFSETFROM:+0200
TZOFFSETTO:+0100
TZNAME:CET
DTSTART:20231029T010000
END:STANDARD
BEGIN:DAYLIGHT
TZOFFSETFROM:+0100
TZOFFSETTO:+0200
TZNAME:CEST
DTSTART:20240331T010000
END:DAYLIGHT
BEGIN:STANDARD
TZOFFSETFROM:+0200
TZOFFSETTO:+0100
TZNAME:CET
DTSTART:20241027T010000
END:STANDARD
END:VTIMEZONE
BEGIN:VEVENT
DTSTART;TZID=Europe/Paris:20230608T220000
DTEND;TZID=Europe/Paris:20230611T140000
DTSTAMP:20260421T212252
CREATED:20230418T081440Z
LAST-MODIFIED:20230515T130744Z
UID:841253-1686261600-1686492000@cecvalentigney.fr
SUMMARY:Club fermé (BOCKSON FESTIVAL) Fermeture du complexe sportif
DESCRIPTION:
URL:https://cecvalentigney.fr/event/club-ferme-bockson-festival-fermeture-du-complexe-sportif/
END:VEVENT
END:VCALENDAR